BEGIN:VCALENDAR
VERSION:2.0
PRODID:-//Sportz Factory - ECPv6.15.20//NONSGML v1.0//EN
CALSCALE:GREGORIAN
METHOD:PUBLISH
X-WR-CALNAME:Sportz Factory
X-ORIGINAL-URL:https://sportzfactory.com
X-WR-CALDESC:Events for Sportz Factory
REFRESH-INTERVAL;VALUE=DURATION:PT1H
X-Robots-Tag:noindex
X-PUBLISHED-TTL:PT1H
BEGIN:VTIMEZONE
TZID:UTC
BEGIN:STANDARD
TZOFFSETFROM:+0000
TZOFFSETTO:+0000
TZNAME:UTC
DTSTART:20220101T000000
END:STANDARD
END:VTIMEZONE
BEGIN:VEVENT
DTSTART;VALUE=DATE:20230527
DTEND;VALUE=DATE:20230531
DTSTAMP:20260421T151438
CREATED:20230411T135324Z
LAST-MODIFIED:20230411T142216Z
UID:3077-1685145600-1685491199@sportzfactory.com
SUMMARY:Adidas Memorial Day Classic – Champions Weekend
DESCRIPTION:
URL:https://sportzfactory.com/event/adidas-memorial-day-classic-champions-weekend/
LOCATION:LakePoint Champions Center\, 261 Stars Way\, Emerson\, GA\, 30121\, United States
ATTACH;FMTTYPE=image/jpeg:https://sportzfactory.com/wp-content/uploads/2023/04/amdc.jpg
END:VEVENT
BEGIN:VEVENT
DTSTART;VALUE=DATE:20230506
DTEND;VALUE=DATE:20230508
DTSTAMP:20260421T151438
CREATED:20230411T135131Z
LAST-MODIFIED:20230411T142217Z
UID:3075-1683331200-1683503999@sportzfactory.com
SUMMARY:RYZE Hoops Showcase 2
DESCRIPTION:
URL:https://sportzfactory.com/event/ryze-hoops-showcase-2/
LOCATION:LakePoint Champions Center\, 261 Stars Way\, Emerson\, GA\, 30121\, United States
ATTACH;FMTTYPE=image/jpeg:https://sportzfactory.com/wp-content/uploads/2023/03/ryze-hoops-champions-center-1024x576-1.jpg
END:VEVENT
BEGIN:VEVENT
DTSTART;VALUE=DATE:20230429
DTEND;VALUE=DATE:20230501
DTSTAMP:20260421T151438
CREATED:20230411T135045Z
LAST-MODIFIED:20230411T142218Z
UID:3072-1682726400-1682899199@sportzfactory.com
SUMMARY:SRVA Southeast Regional (Volleyball) – Champions Weekend
DESCRIPTION:
URL:https://sportzfactory.com/event/srva-southeast-regional-volleyball-champions-weekend/
LOCATION:LakePoint Champions Center\, 261 Stars Way\, Emerson\, GA\, 30121\, United States
ATTACH;FMTTYPE=image/jpeg:https://sportzfactory.com/wp-content/uploads/2023/04/srva.jpg
END:VEVENT
BEGIN:VEVENT
DTSTART;VALUE=DATE:20230421
DTEND;VALUE=DATE:20230424
DTSTAMP:20260421T151438
CREATED:20230411T134248Z
LAST-MODIFIED:20230411T142220Z
UID:3067-1682035200-1682294399@sportzfactory.com
SUMMARY:Nike EYBL
DESCRIPTION:
URL:https://sportzfactory.com/event/nike-eybl/
LOCATION:LakePoint Champions Center\, 261 Stars Way\, Emerson\, GA\, 30121\, United States
ATTACH;FMTTYPE=image/png:https://sportzfactory.com/wp-content/uploads/2023/04/mobile-bkg-PJ.png
END:VEVENT
BEGIN:VEVENT
DTSTART;VALUE=DATE:20230415
DTEND;VALUE=DATE:20230417
DTSTAMP:20260421T151438
CREATED:20230411T133719Z
LAST-MODIFIED:20230411T142221Z
UID:3065-1681516800-1681689599@sportzfactory.com
SUMMARY:RYZE Hoops Showcase 1
DESCRIPTION:
URL:https://sportzfactory.com/event/ryze-hoops-showcase-1/
LOCATION:LakePoint Champions Center\, 261 Stars Way\, Emerson\, GA\, 30121\, United States
ATTACH;FMTTYPE=image/jpeg:https://sportzfactory.com/wp-content/uploads/2023/03/ryze-hoops-champions-center-1024x576-1.jpg
END:VEVENT
BEGIN:VEVENT
DTSTART;VALUE=DATE:20230407
DTEND;VALUE=DATE:20230408
DTSTAMP:20260421T151438
CREATED:20230324T122232Z
LAST-MODIFIED:20230411T142222Z
UID:2853-1680825600-1680911999@sportzfactory.com
SUMMARY:RYZE JUNIOR JAM
DESCRIPTION:
URL:https://sportzfactory.com/event/ryze-junior-jam/
LOCATION:LakePoint Champions Center\, 261 Stars Way\, Emerson\, GA\, 30121\, United States
ATTACH;FMTTYPE=image/jpeg:https://sportzfactory.com/wp-content/uploads/2023/03/ryze-hoops-champions-center-1024x576-1.jpg
END:VEVENT
BEGIN:VEVENT
DTSTART;VALUE=DATE:20230331
DTEND;VALUE=DATE:20230403
DTSTAMP:20260421T151438
CREATED:20230323T000212Z
LAST-MODIFIED:20230411T142223Z
UID:2636-1680220800-1680479999@sportzfactory.com
SUMMARY:Houston GASO Tip-Off
DESCRIPTION:
URL:https://sportzfactory.com/event/houston-gaso-tip-off/
LOCATION:MI3 Center\, 1135 Ella Crossing Dr.\, Houston\, TX\, 77090\, United States
ATTACH;FMTTYPE=image/jpeg:https://sportzfactory.com/wp-content/uploads/2023/03/GASO-scaled.jpg
END:VEVENT
BEGIN:VEVENT
DTSTART;VALUE=DATE:20230325
DTEND;VALUE=DATE:20230326
DTSTAMP:20260421T151438
CREATED:20230316T194714Z
LAST-MODIFIED:20230411T142224Z
UID:2360-1679702400-1679788799@sportzfactory.com
SUMMARY:RYZE TIP OFF CLASSIC
DESCRIPTION:
URL:https://sportzfactory.com/event/ryze-tip-off-classic/
LOCATION:LakePoint Champions Center\, 261 Stars Way\, Emerson\, GA\, 30121\, United States
ATTACH;FMTTYPE=image/jpeg:https://sportzfactory.com/wp-content/uploads/2023/03/ryze-hoops-champions-center-1024x576-1.jpg
END:VEVENT
END:VCALENDAR